Package: dStruct Version: 1.14.0 Command: chmod a+r dStruct -R && E:\biocbuild\bbs-3.21-bioc\R\bin\R.exe CMD build --keep-empty-dirs --no-resave-data dStruct StartedAt: 2025-08-14 18:44:30 -0400 (Thu, 14 Aug 2025) EndedAt: 2025-08-14 18:44:59 -0400 (Thu, 14 Aug 2025) EllapsedTime: 28.9 seconds RetCode: 0 Status: OK PackageFile: dStruct_1.14.0.tar.gz PackageFileSize: 557.5 KiB