Package: dStruct Version: 1.14.0 Command: rm -rf dStruct.buildbin-libdir && mkdir dStruct.buildbin-libdir && E:\biocbuild\bbs-3.21-bioc\R\bin\R.exe CMD INSTALL --build --library=dStruct.buildbin-libdir dStruct_1.14.0.tar.gz StartedAt: 2025-08-15 09:12:47 -0400 (Fri, 15 Aug 2025) EndedAt: 2025-08-15 09:12:54 -0400 (Fri, 15 Aug 2025) EllapsedTime: 7.1 seconds RetCode: 0 Status: OK PackageFile: dStruct_1.14.0.zip PackageFileSize: 601.9 KiB