Package: dStruct Version: 1.14.0 Command: /home/biocbuild/bbs-3.21-bioc/R/bin/R CMD build --keep-empty-dirs --no-resave-data dStruct StartedAt: 2025-10-15 17:18:34 -0400 (Wed, 15 Oct 2025) EndedAt: 2025-10-15 17:18:51 -0400 (Wed, 15 Oct 2025) EllapsedTime: 17.0 seconds RetCode: 0 Status: OK PackageFile: dStruct_1.14.0.tar.gz PackageFileSize: 557.4 KiB