Package: dStruct Version: 1.14.0 Command: /Library/Frameworks/R.framework/Resources/bin/R CMD check --install=check:dStruct.install-out.txt --library=/Library/Frameworks/R.framework/Resources/library --no-vignettes --timings dStruct_1.14.0.tar.gz StartedAt: 2025-04-21 20:27:13 -0400 (Mon, 21 Apr 2025) EndedAt: 2025-04-21 20:28:46 -0400 (Mon, 21 Apr 2025) EllapsedTime: 93.0 seconds RetCode: 0 Status: OK CheckDir: dStruct.Rcheck Warnings: 0