Package: cytoviewer Version: 1.8.0 Command: E:\biocbuild\bbs-3.21-bioc\R\bin\R.exe CMD check --no-multiarch --install=check:cytoviewer.install-out.txt --library=E:\biocbuild\bbs-3.21-bioc\R\library --no-vignettes --timings cytoviewer_1.8.0.tar.gz StartedAt: 2025-08-15 01:10:56 -0400 (Fri, 15 Aug 2025) EndedAt: 2025-08-15 01:18:02 -0400 (Fri, 15 Aug 2025) EllapsedTime: 426.2 seconds RetCode: 0 Status: OK CheckDir: cytoviewer.Rcheck Warnings: 0