Package: cytomapper Version: 1.20.0 Command: E:\biocbuild\bbs-3.21-bioc\R\bin\R.exe CMD check --no-multiarch --install=check:cytomapper.install-out.txt --library=E:\biocbuild\bbs-3.21-bioc\R\library --no-vignettes --timings cytomapper_1.20.0.tar.gz StartedAt: 2025-08-15 01:09:22 -0400 (Fri, 15 Aug 2025) EndedAt: 2025-08-15 01:35:49 -0400 (Fri, 15 Aug 2025) EllapsedTime: 1587.4 seconds RetCode: 0 Status: OK CheckDir: cytomapper.Rcheck Warnings: 0