Package: cytomapper Version: 1.20.0 Command: /Library/Frameworks/R.framework/Resources/bin/R CMD INSTALL cytomapper StartedAt: 2025-10-13 16:04:48 -0400 (Mon, 13 Oct 2025) EndedAt: 2025-10-13 16:06:53 -0400 (Mon, 13 Oct 2025) EllapsedTime: 125.2 seconds RetCode: 0 Status: OK