Package: cytomapper Version: 1.20.0 Command: /home/biocbuild/R/R/bin/R CMD INSTALL cytomapper StartedAt: 2025-10-13 20:51:24 -0000 (Mon, 13 Oct 2025) EndedAt: 2025-10-13 20:52:45 -0000 (Mon, 13 Oct 2025) EllapsedTime: 81.3 seconds RetCode: 0 Status: OK