Package: cytomapper Version: 1.20.0 Command: /home/biocbuild/R/R/bin/R CMD build --keep-empty-dirs --no-resave-data cytomapper StartedAt: 2025-10-14 00:02:55 -0000 (Tue, 14 Oct 2025) EndedAt: 2025-10-14 00:05:17 -0000 (Tue, 14 Oct 2025) EllapsedTime: 141.1 seconds RetCode: 0 Status: OK PackageFile: cytomapper_1.20.0.tar.gz PackageFileSize: 21.07 MiB