Package: cytolib Version: 2.20.0 Command: E:\biocbuild\bbs-3.21-bioc\R\bin\R.exe CMD check --no-multiarch --install=check:cytolib.install-out.txt --library=E:\biocbuild\bbs-3.21-bioc\R\library --no-vignettes --timings cytolib_2.20.0.tar.gz StartedAt: 2025-08-15 01:08:41 -0400 (Fri, 15 Aug 2025) EndedAt: 2025-08-15 01:10:27 -0400 (Fri, 15 Aug 2025) EllapsedTime: 105.6 seconds RetCode: 0 Status: WARNINGS CheckDir: cytolib.Rcheck Warnings: 3