Package: cytoKernel Version: 1.14.0 Command: E:\biocbuild\bbs-3.21-bioc\R\bin\R.exe CMD check --no-multiarch --install=check:cytoKernel.install-out.txt --library=E:\biocbuild\bbs-3.21-bioc\R\library --no-vignettes --timings cytoKernel_1.14.0.tar.gz StartedAt: 2025-08-15 01:08:29 -0400 (Fri, 15 Aug 2025) EndedAt: 2025-08-15 01:12:51 -0400 (Fri, 15 Aug 2025) EllapsedTime: 261.9 seconds RetCode: 0 Status: OK CheckDir: cytoKernel.Rcheck Warnings: 0