Package: cydar Version: 1.32.1 Command: E:\biocbuild\bbs-3.21-bioc\R\bin\R.exe CMD INSTALL cydar StartedAt: 2025-08-14 16:26:45 -0400 (Thu, 14 Aug 2025) EndedAt: 2025-08-14 16:27:54 -0400 (Thu, 14 Aug 2025) EllapsedTime: 68.5 seconds RetCode: 0 Status: OK