Package: cydar Version: 1.32.1 Command: /home/biocbuild/bbs-3.21-bioc/R/bin/R CMD INSTALL cydar StartedAt: 2025-10-01 15:33:51 -0400 (Wed, 01 Oct 2025) EndedAt: 2025-10-01 15:34:38 -0400 (Wed, 01 Oct 2025) EllapsedTime: 46.6 seconds RetCode: 0 Status: OK