Package: cydar Version: 1.32.1 Command: /home/biocbuild/bbs-3.21-bioc/R/bin/R CMD check --install=check:cydar.install-out.txt --library=/home/biocbuild/bbs-3.21-bioc/R/site-library --timings cydar_1.32.1.tar.gz StartedAt: 2025-10-01 22:19:01 -0400 (Wed, 01 Oct 2025) EndedAt: 2025-10-01 22:23:24 -0400 (Wed, 01 Oct 2025) EllapsedTime: 263.4 seconds RetCode: 0 Status: OK CheckDir: cydar.Rcheck Warnings: 0