Package: cydar Version: 1.32.1 Command: /Library/Frameworks/R.framework/Resources/bin/R CMD check --install=check:cydar.install-out.txt --library=/Library/Frameworks/R.framework/Resources/library --no-vignettes --timings cydar_1.32.1.tar.gz StartedAt: 2025-10-14 02:17:41 -0400 (Tue, 14 Oct 2025) EndedAt: 2025-10-14 02:26:13 -0400 (Tue, 14 Oct 2025) EllapsedTime: 512.1 seconds RetCode: 0 Status: OK CheckDir: cydar.Rcheck Warnings: 0