Package: cydar Version: 1.32.1 Command: /Library/Frameworks/R.framework/Resources/bin/R CMD build --keep-empty-dirs --no-resave-data cydar StartedAt: 2025-10-13 18:18:05 -0400 (Mon, 13 Oct 2025) EndedAt: 2025-10-13 18:20:34 -0400 (Mon, 13 Oct 2025) EllapsedTime: 149.0 seconds RetCode: 0 Status: OK PackageFile: cydar_1.32.1.tar.gz PackageFileSize: 744.1 KiB