Package: customCMPdb Version: 1.18.0 Command: chmod a+r customCMPdb -R && E:\biocbuild\bbs-3.21-bioc\R\bin\R.exe CMD build --keep-empty-dirs --no-resave-data customCMPdb StartedAt: 2025-08-14 18:20:37 -0400 (Thu, 14 Aug 2025) EndedAt: 2025-08-14 18:24:15 -0400 (Thu, 14 Aug 2025) EllapsedTime: 218.8 seconds RetCode: 0 Status: OK PackageFile: customCMPdb_1.18.0.tar.gz PackageFileSize: 650.5 KiB