Package: customCMPdb Version: 1.18.0 Command: rm -rf customCMPdb.buildbin-libdir && mkdir customCMPdb.buildbin-libdir && E:\biocbuild\bbs-3.21-bioc\R\bin\R.exe CMD INSTALL --build --library=customCMPdb.buildbin-libdir customCMPdb_1.18.0.tar.gz StartedAt: 2025-08-15 09:05:32 -0400 (Fri, 15 Aug 2025) EndedAt: 2025-08-15 09:05:58 -0400 (Fri, 15 Aug 2025) EllapsedTime: 25.9 seconds RetCode: 0 Status: OK PackageFile: customCMPdb_1.18.0.zip PackageFileSize: 690.8 KiB