Package: customCMPdb Version: 1.18.0 Command: /Library/Frameworks/R.framework/Resources/bin/R CMD build --keep-empty-dirs --no-resave-data customCMPdb StartedAt: 2025-10-13 18:17:18 -0400 (Mon, 13 Oct 2025) EndedAt: 2025-10-13 18:21:25 -0400 (Mon, 13 Oct 2025) EllapsedTime: 247.0 seconds RetCode: 0 Status: OK PackageFile: customCMPdb_1.18.0.tar.gz PackageFileSize: 694 KiB