Package: cummeRbund Version: 2.50.0 Command: /home/biocbuild/bbs-3.21-bioc/R/bin/R CMD check --install=check:cummeRbund.install-out.txt --library=/home/biocbuild/bbs-3.21-bioc/R/site-library --timings cummeRbund_2.50.0.tar.gz StartedAt: 2025-09-10 22:54:01 -0400 (Wed, 10 Sep 2025) EndedAt: 2025-09-10 23:01:20 -0400 (Wed, 10 Sep 2025) EllapsedTime: 438.5 seconds RetCode: 0 Status: WARNINGS CheckDir: cummeRbund.Rcheck Warnings: 1