Package: cummeRbund Version: 2.50.0 Command: /Library/Frameworks/R.framework/Resources/bin/R CMD INSTALL cummeRbund StartedAt: 2025-10-13 16:23:51 -0400 (Mon, 13 Oct 2025) EndedAt: 2025-10-13 16:25:55 -0400 (Mon, 13 Oct 2025) EllapsedTime: 124.8 seconds RetCode: 0 Status: OK