Package: cummeRbund Version: 2.50.0 Command: /Library/Frameworks/R.framework/Resources/bin/R CMD check --install=check:cummeRbund.install-out.txt --library=/Library/Frameworks/R.framework/Resources/library --no-vignettes --timings cummeRbund_2.50.0.tar.gz StartedAt: 2025-04-21 20:03:03 -0400 (Mon, 21 Apr 2025) EndedAt: 2025-04-21 20:09:40 -0400 (Mon, 21 Apr 2025) EllapsedTime: 397.6 seconds RetCode: 0 Status: WARNINGS CheckDir: cummeRbund.Rcheck Warnings: 1