Package: cummeRbund Version: 2.50.0 Command: /Library/Frameworks/R.framework/Resources/bin/R CMD check --install=check:cummeRbund.install-out.txt --library=/Library/Frameworks/R.framework/Resources/library --no-vignettes --timings cummeRbund_2.50.0.tar.gz StartedAt: 2025-09-09 17:32:14 -0400 (Tue, 09 Sep 2025) EndedAt: 2025-09-09 17:39:02 -0400 (Tue, 09 Sep 2025) EllapsedTime: 407.6 seconds RetCode: 0 Status: WARNINGS CheckDir: cummeRbund.Rcheck Warnings: 1