Package: cummeRbund Version: 2.50.0 Command: /Library/Frameworks/R.framework/Resources/bin/R CMD build --keep-empty-dirs --no-resave-data cummeRbund StartedAt: 2025-09-18 23:03:13 -0400 (Thu, 18 Sep 2025) EndedAt: 2025-09-18 23:05:29 -0400 (Thu, 18 Sep 2025) EllapsedTime: 136.1 seconds RetCode: 1 Status: ERROR PackageFile: None PackageFileSize: NA