Package: ctsGE Version: 1.34.0 Command: /home/biocbuild/R/R/bin/R CMD INSTALL ctsGE StartedAt: 2025-10-13 20:19:30 -0000 (Mon, 13 Oct 2025) EndedAt: 2025-10-13 20:19:47 -0000 (Mon, 13 Oct 2025) EllapsedTime: 17.5 seconds RetCode: 0 Status: OK