Package: ctc Version: 1.82.0 Command: rm -rf ctc.buildbin-libdir && mkdir ctc.buildbin-libdir && E:\biocbuild\bbs-3.21-bioc\R\bin\R.exe CMD INSTALL --build --library=ctc.buildbin-libdir ctc_1.82.0.tar.gz StartedAt: 2025-08-15 09:05:02 -0400 (Fri, 15 Aug 2025) EndedAt: 2025-08-15 09:05:09 -0400 (Fri, 15 Aug 2025) EllapsedTime: 7.9 seconds RetCode: 0 Status: OK PackageFile: ctc_1.82.0.zip PackageFileSize: 140.5 KiB