Package: ctc Version: 1.82.0 Command: /home/biocbuild/bbs-3.21-bioc/R/bin/R CMD INSTALL ctc StartedAt: 2025-10-15 15:02:59 -0400 (Wed, 15 Oct 2025) EndedAt: 2025-10-15 15:03:23 -0400 (Wed, 15 Oct 2025) EllapsedTime: 24.0 seconds RetCode: 0 Status: OK