Package: ctc Version: 1.82.0 Command: /home/biocbuild/bbs-3.21-bioc/R/bin/R CMD check --install=check:ctc.install-out.txt --library=/home/biocbuild/bbs-3.21-bioc/R/site-library --timings ctc_1.82.0.tar.gz StartedAt: 2025-10-15 22:11:03 -0400 (Wed, 15 Oct 2025) EndedAt: 2025-10-15 22:11:21 -0400 (Wed, 15 Oct 2025) EllapsedTime: 18.0 seconds RetCode: 0 Status: OK CheckDir: ctc.Rcheck Warnings: 0