Package: ctc Version: 1.82.0 Command: /home/biocbuild/bbs-3.21-bioc/R/bin/R CMD build --keep-empty-dirs --no-resave-data ctc StartedAt: 2025-10-15 16:59:52 -0400 (Wed, 15 Oct 2025) EndedAt: 2025-10-15 16:59:57 -0400 (Wed, 15 Oct 2025) EllapsedTime: 5.0 seconds RetCode: 0 Status: OK PackageFile: ctc_1.82.0.tar.gz PackageFileSize: 270 KiB