Package: ctc Version: 1.82.0 Command: /Library/Frameworks/R.framework/Resources/bin/R CMD INSTALL ctc StartedAt: 2025-10-13 15:07:38 -0400 (Mon, 13 Oct 2025) EndedAt: 2025-10-13 15:08:16 -0400 (Mon, 13 Oct 2025) EllapsedTime: 37.4 seconds RetCode: 0 Status: OK