Package: ctc Version: 1.82.0 Command: /home/biocbuild/R/R/bin/R CMD build --keep-empty-dirs --no-resave-data ctc StartedAt: 2025-10-13 23:59:32 -0000 (Mon, 13 Oct 2025) EndedAt: 2025-10-13 23:59:37 -0000 (Mon, 13 Oct 2025) EllapsedTime: 5.0 seconds RetCode: 0 Status: OK PackageFile: ctc_1.82.0.tar.gz PackageFileSize: 262.6 KiB