Package: ctc Version: 1.82.0 Command: /Library/Frameworks/R.framework/Resources/bin/R CMD INSTALL ctc StartedAt: 2025-10-13 15:11:18 -0400 (Mon, 13 Oct 2025) EndedAt: 2025-10-13 15:11:21 -0400 (Mon, 13 Oct 2025) EllapsedTime: 3.5 seconds RetCode: 0 Status: OK