Package: ctc Version: 1.82.0 Command: /Library/Frameworks/R.framework/Resources/bin/R CMD build --keep-empty-dirs --no-resave-data ctc StartedAt: 2025-10-13 22:15:52 -0400 (Mon, 13 Oct 2025) EndedAt: 2025-10-13 22:16:01 -0400 (Mon, 13 Oct 2025) EllapsedTime: 9.2 seconds RetCode: 0 Status: OK PackageFile: ctc_1.82.0.tar.gz PackageFileSize: 270.3 KiB