Package: ctc Version: 1.82.0 Command: rm -rf ctc.buildbin-libdir && mkdir ctc.buildbin-libdir && /Users/biocbuild/BBS/utils/build-universal.sh ctc_1.82.0.tar.gz /Library/Frameworks/R.framework/Resources/bin/R ctc.buildbin-libdir StartedAt: 2025-10-15 18:04:41 -0400 (Wed, 15 Oct 2025) EndedAt: 2025-10-15 18:04:46 -0400 (Wed, 15 Oct 2025) EllapsedTime: 4.6 seconds RetCode: 0 Status: OK PackageFile: ctc_1.82.0.tgz PackageFileSize: 318.9 KiB