Package: csdR Version: 1.14.0 Command: /home/biocbuild/R/R/bin/R CMD INSTALL csdR StartedAt: 2025-10-13 21:04:42 -0000 (Mon, 13 Oct 2025) EndedAt: 2025-10-13 21:05:27 -0000 (Mon, 13 Oct 2025) EllapsedTime: 45.3 seconds RetCode: 0 Status: OK