Package: csdR Version: 1.14.0 Command: /home/biocbuild/R/R/bin/R CMD build --keep-empty-dirs --no-resave-data csdR StartedAt: 2025-10-13 23:58:50 -0000 (Mon, 13 Oct 2025) EndedAt: 2025-10-14 00:00:09 -0000 (Tue, 14 Oct 2025) EllapsedTime: 79.0 seconds RetCode: 0 Status: OK PackageFile: csdR_1.14.0.tar.gz PackageFileSize: 1.47 MiB