Package: crupR Version: 1.0.0 Command: /Library/Frameworks/R.framework/Resources/bin/R CMD INSTALL crupR StartedAt: 2025-10-13 16:48:10 -0400 (Mon, 13 Oct 2025) EndedAt: 2025-10-13 16:49:30 -0400 (Mon, 13 Oct 2025) EllapsedTime: 80.6 seconds RetCode: 0 Status: OK