Package: crupR Version: 1.0.0 Command: /Library/Frameworks/R.framework/Resources/bin/R CMD build --keep-empty-dirs --no-resave-data crupR StartedAt: 2025-10-13 18:13:58 -0400 (Mon, 13 Oct 2025) EndedAt: 2025-10-13 18:32:06 -0400 (Mon, 13 Oct 2025) EllapsedTime: 1088.2 seconds RetCode: 0 Status: OK PackageFile: crupR_1.0.0.tar.gz PackageFileSize: 4.149 MiB