Package: crupR Version: 1.0.0 Command: /home/biocbuild/R/R/bin/R CMD build --keep-empty-dirs --no-resave-data crupR StartedAt: 2025-10-13 23:58:05 -0000 (Mon, 13 Oct 2025) EndedAt: 2025-10-14 00:18:19 -0000 (Tue, 14 Oct 2025) EllapsedTime: 1213.4 seconds RetCode: 0 Status: OK PackageFile: crupR_1.0.0.tar.gz PackageFileSize: 4.168 MiB