Package: crumblr Version: 1.0.0 Command: /home/biocbuild/bbs-3.21-bioc/R/bin/R CMD check --install=check:crumblr.install-out.txt --library=/home/biocbuild/bbs-3.21-bioc/R/site-library --timings crumblr_1.0.0.tar.gz StartedAt: 2025-10-15 22:09:33 -0400 (Wed, 15 Oct 2025) EndedAt: 2025-10-15 22:16:16 -0400 (Wed, 15 Oct 2025) EllapsedTime: 402.4 seconds RetCode: 0 Status: OK CheckDir: crumblr.Rcheck Warnings: 0