Package: crumblr Version: 1.0.0 Command: /home/biocbuild/R/R/bin/R CMD check --install=check:crumblr.install-out.txt --library=/home/biocbuild/R/R/site-library --no-vignettes --timings crumblr_1.0.0.tar.gz StartedAt: 2025-10-14 07:59:14 -0000 (Tue, 14 Oct 2025) EndedAt: 2025-10-14 08:06:25 -0000 (Tue, 14 Oct 2025) EllapsedTime: 431.2 seconds RetCode: 0 Status: OK CheckDir: crumblr.Rcheck Warnings: 0