Package: crumblr Version: 1.0.0 Command: /home/biocbuild/R/R/bin/R CMD build --keep-empty-dirs --no-resave-data crumblr StartedAt: 2025-10-13 23:58:00 -0000 (Mon, 13 Oct 2025) EndedAt: 2025-10-14 00:00:49 -0000 (Tue, 14 Oct 2025) EllapsedTime: 169.1 seconds RetCode: 0 Status: OK PackageFile: crumblr_1.0.0.tar.gz PackageFileSize: 1.836 MiB