Package: crumblr Version: 1.0.0 Command: /Library/Frameworks/R.framework/Resources/bin/R CMD INSTALL crumblr StartedAt: 2025-10-13 18:27:07 -0400 (Mon, 13 Oct 2025) EndedAt: 2025-10-13 18:27:44 -0400 (Mon, 13 Oct 2025) EllapsedTime: 37.3 seconds RetCode: 0 Status: OK