Package: crumblr Version: 1.0.0 Command: /Library/Frameworks/R.framework/Resources/bin/R CMD check --install=check:crumblr.install-out.txt --library=/Library/Frameworks/R.framework/Resources/library --no-vignettes --timings crumblr_1.0.0.tar.gz StartedAt: 2025-10-14 17:58:58 -0400 (Tue, 14 Oct 2025) EndedAt: 2025-10-14 18:05:02 -0400 (Tue, 14 Oct 2025) EllapsedTime: 363.7 seconds RetCode: 0 Status: OK CheckDir: crumblr.Rcheck Warnings: 0