Package: crumblr Version: 1.0.0 Command: rm -rf crumblr.buildbin-libdir && mkdir crumblr.buildbin-libdir && /Users/biocbuild/BBS/utils/build-universal.sh crumblr_1.0.0.tar.gz /Library/Frameworks/R.framework/Resources/bin/R crumblr.buildbin-libdir StartedAt: 2025-10-15 18:03:59 -0400 (Wed, 15 Oct 2025) EndedAt: 2025-10-15 18:04:41 -0400 (Wed, 15 Oct 2025) EllapsedTime: 42.2 seconds RetCode: 0 Status: OK PackageFile: crumblr_1.0.0.tgz PackageFileSize: 1.882 MiB