Package: crumblr Version: 1.0.0 Maintainer: Gabriel Hoffman MaintainerEmail: gabriel.hoffman at mssm.edu git_url: https://git.bioconductor.org/packages/crumblr git_branch: RELEASE_3_21 git_last_commit: e586680 git_last_commit_date: 2025-04-15 13:49:52 -0400 (Tue, 15 Apr 2025)