Package: crossmeta Version: 1.34.0 Command: /home/biocbuild/bbs-3.21-bioc/R/bin/R CMD INSTALL crossmeta StartedAt: 2025-10-12 15:33:09 -0400 (Sun, 12 Oct 2025) EndedAt: 2025-10-12 15:33:21 -0400 (Sun, 12 Oct 2025) EllapsedTime: 11.9 seconds RetCode: 0 Status: OK