Package: crossmeta Version: 1.34.0 Command: /home/biocbuild/bbs-3.21-bioc/R/bin/R CMD check --install=check:crossmeta.install-out.txt --library=/home/biocbuild/bbs-3.21-bioc/R/site-library --timings crossmeta_1.34.0.tar.gz StartedAt: 2025-10-12 22:12:46 -0400 (Sun, 12 Oct 2025) EndedAt: 2025-10-12 22:15:43 -0400 (Sun, 12 Oct 2025) EllapsedTime: 177.2 seconds RetCode: 1 Status: ERROR CheckDir: crossmeta.Rcheck Warnings: NA