Package: crossmeta Version: 1.34.0 Command: /Library/Frameworks/R.framework/Resources/bin/R CMD check --install=check:crossmeta.install-out.txt --library=/Library/Frameworks/R.framework/Resources/library --no-vignettes --timings crossmeta_1.34.0.tar.gz StartedAt: 2025-09-30 17:53:46 -0400 (Tue, 30 Sep 2025) EndedAt: 2025-09-30 17:56:08 -0400 (Tue, 30 Sep 2025) EllapsedTime: 142.1 seconds RetCode: 1 Status: ERROR CheckDir: crossmeta.Rcheck Warnings: NA