Package: crisprViz Version: 1.10.0 Command: E:\biocbuild\bbs-3.21-bioc\R\bin\R.exe CMD check --no-multiarch --install=check:crisprViz.install-out.txt --library=E:\biocbuild\bbs-3.21-bioc\R\library --no-vignettes --timings crisprViz_1.10.0.tar.gz StartedAt: 2025-08-15 01:00:51 -0400 (Fri, 15 Aug 2025) EndedAt: 2025-08-15 01:09:20 -0400 (Fri, 15 Aug 2025) EllapsedTime: 508.8 seconds RetCode: 0 Status: OK CheckDir: crisprViz.Rcheck Warnings: 0